BEGIN:VCALENDAR
VERSION:2.0
PRODID:-//Contratero//ES
CALSCALE:GREGORIAN
METHOD:PUBLISH
BEGIN:VEVENT
UID:1102C2024054 MES-2024-13@contratero.es
DTSTAMP:20260420T133758Z
DTSTART:20241001T235959
DTEND:20241002T005959
SUMMARY:Cierre: servicio de mantenimiento de equipos de comunicaci
DESCRIPTION:servicio de mantenimiento de equipos de comunicaciones y servicios de gestión de red con destino a la intervención general de la administración del estado.\\n\\nOrganismo: Oficina de Informática Presupuestaria\\n\\nVer en Contratero: https://contratero.es/contracts/1102C2024054 MES-2024-13
URL:https://contratero.es/contracts/1102C2024054 MES-2024-13
STATUS:CONFIRMED
BEGIN:VALARM
TRIGGER:-P1D
ACTION:DISPLAY
DESCRIPTION:Recordatorio: servicio de mantenimiento de e
END:VALARM
END:VEVENT
END:VCALENDAR